BEGIN:VCALENDAR
VERSION:2.0
PRODID:-//GKI Taman Aries - ECPv6.6.0//NONSGML v1.0//EN
CALSCALE:GREGORIAN
METHOD:PUBLISH
X-WR-CALNAME:GKI Taman Aries
X-ORIGINAL-URL:https://gkitamanaries.org
X-WR-CALDESC:Events for GKI Taman Aries
REFRESH-INTERVAL;VALUE=DURATION:PT1H
X-Robots-Tag:noindex
X-PUBLISHED-TTL:PT1H
BEGIN:VTIMEZONE
TZID:Asia/Jakarta
BEGIN:STANDARD
TZOFFSETFROM:+0700
TZOFFSETTO:+0700
TZNAME:WIB
DTSTART:20260101T000000
END:STANDARD
END:VTIMEZONE
BEGIN:VEVENT
DTSTART;TZID=Asia/Jakarta:20260419T073000
DTEND;TZID=Asia/Jakarta:20260419T083000
DTSTAMP:20260420T230657
CREATED:20260418T034513Z
LAST-MODIFIED:20260418T034518Z
UID:7550-1776583800-1776587400@gkitamanaries.org
SUMMARY:Kebaktian 1 Minggu Paskah 3 – Disentuh Firman\, Bertobat\, Diutus
DESCRIPTION:Kebaktian 1 Minggu Paskah 3 dilayani oleh Pdt. Lindawati Niman (GKI Kwitang) \n\n\n\nKebaktian 1 Minggu Paskah 3 dilaksanakan secara Hybrid Melalui Zoom dan Ruangan Kebaktian Umum
URL:https://gkitamanaries.org/event/kebaktian-1-minggu-paskah-3-disentuh-firman-bertobat-diutus/
ATTACH;FMTTYPE=image/png:https://gkitamanaries.org/wp-content/uploads/2026/04/Cover-WJ-1-e1776407610724.png
END:VEVENT
BEGIN:VEVENT
DTSTART;TZID=Asia/Jakarta:20260419T073000
DTEND;TZID=Asia/Jakarta:20260419T083000
DTSTAMP:20260420T230657
CREATED:20260418T034530Z
LAST-MODIFIED:20260418T034535Z
UID:7565-1776583800-1776587400@gkitamanaries.org
SUMMARY:Kebaktian Anak (ASM) Kelas Besar - Tuhan Hadir Kembali Memberi Harapan
DESCRIPTION:Kebaktian Anak (ASM) Kelas Kecil dilaksanakan di Ruangan Sekolah Minggu
URL:https://gkitamanaries.org/event/kebaktian-anak-asm-kelas-besar-tuhan-hadir-kembali-memberi-harapan/
END:VEVENT
BEGIN:VEVENT
DTSTART;TZID=Asia/Jakarta:20260419T100000
DTEND;TZID=Asia/Jakarta:20260419T120000
DTSTAMP:20260420T230657
CREATED:20260411T031611Z
LAST-MODIFIED:20260418T034600Z
UID:7534-1776592800-1776600000@gkitamanaries.org
SUMMARY:Kebaktian Kaum Muda (Youth Service) - Because He Lives in Our Journey
DESCRIPTION:
URL:https://gkitamanaries.org/event/kebaktian-kaum-muda-youth-service-because-he-lives-in-our-doubt/
ATTACH;FMTTYPE=image/jpeg:https://gkitamanaries.org/wp-content/uploads/2026/04/Youth-19-April-26.jpeg
END:VEVENT
BEGIN:VEVENT
DTSTART;TZID=Asia/Jakarta:20260419T100000
DTEND;TZID=Asia/Jakarta:20260419T120000
DTSTAMP:20260420T230657
CREATED:20260418T034633Z
LAST-MODIFIED:20260418T034636Z
UID:7553-1776592800-1776600000@gkitamanaries.org
SUMMARY:Kebaktian 2 Minggu Paskah 3 – Disentuh Firman\, Bertobat\, Diutus
DESCRIPTION:Kebaktian 2 Minggu Paskah 3 dilayani oleh Pdt. Lindawati Niman (GKI Kwitang) \n\n\n\nKebaktian 2 Minggu Paskah 3 dilaksanakan secara Onsite Melalui Ruangan Kebaktian Umum
URL:https://gkitamanaries.org/event/kebaktian-2-minggu-paskah-3-disentuh-firman-bertobat-diutus/
ATTACH;FMTTYPE=image/png:https://gkitamanaries.org/wp-content/uploads/2026/04/Cover-WJ-1-e1776407610724.png
END:VEVENT
BEGIN:VEVENT
DTSTART;TZID=Asia/Jakarta:20260419T100000
DTEND;TZID=Asia/Jakarta:20260419T120000
DTSTAMP:20260420T230657
CREATED:20260418T034659Z
LAST-MODIFIED:20260418T034703Z
UID:7563-1776592800-1776600000@gkitamanaries.org
SUMMARY:Kebaktian Anak (ASM) Kelas Kecil - Tuhan Hadir Kembali Memberi Harapan
DESCRIPTION:Kebaktian Anak (ASM) Kelas Kecil dilaksanakan di Ruangan Sekolah Minggu
URL:https://gkitamanaries.org/event/kebaktian-anak-asm-kelas-kecil-tuhan-hadir-kembali-memberi-harapan/
END:VEVENT
BEGIN:VEVENT
DTSTART;TZID=Asia/Jakarta:20260419T170000
DTEND;TZID=Asia/Jakarta:20260419T190000
DTSTAMP:20260420T230657
CREATED:20260418T034721Z
LAST-MODIFIED:20260418T034725Z
UID:7555-1776618000-1776625200@gkitamanaries.org
SUMMARY:Kebaktian 3 Minggu Paskah 3 – Disentuh Firman\, Bertobat\, Diutus
DESCRIPTION:Kebaktian 3 Minggu Paskah 3 dilayani oleh Pdt. Yael Eka Hadiputeri (GKI Muara Karang) \n\n\n\nKebaktian 3 Minggu Paskah 3 dilaksanakan secara Onsite Melalui Ruangan Kebaktian Umum dengan suasana yang berbeda dan semangat INTERGENERASI
URL:https://gkitamanaries.org/event/kebaktian-3-minggu-paskah-3-disentuh-firman-bertobat-diutus/
ATTACH;FMTTYPE=image/png:https://gkitamanaries.org/wp-content/uploads/2026/04/Cover-WJ-1-e1776407610724.png
END:VEVENT
BEGIN:VEVENT
DTSTART;TZID=Asia/Jakarta:20260420T190000
DTEND;TZID=Asia/Jakarta:20260420T210000
DTSTAMP:20260420T230657
CREATED:20260420T033005Z
LAST-MODIFIED:20260420T033008Z
UID:7571-1776711600-1776718800@gkitamanaries.org
SUMMARY:Growing in Community ( Wilayah 4 )
DESCRIPTION:
URL:https://gkitamanaries.org/event/growing-in-community-wilayah-4/
ATTACH;FMTTYPE=image/png:https://gkitamanaries.org/wp-content/uploads/2026/04/GIC-APRIL-scaled.png
END:VEVENT
BEGIN:VEVENT
DTSTART;TZID=Asia/Jakarta:20260424T100000
DTEND;TZID=Asia/Jakarta:20260424T120000
DTSTAMP:20260420T230657
CREATED:20260420T035008Z
LAST-MODIFIED:20260420T035012Z
UID:7581-1777024800-1777032000@gkitamanaries.org
SUMMARY:Rindu Usinda - Di Balik Kemenangan
DESCRIPTION:Rindu Usinda akan dilayani oleh Pdt. Em. Budianto Puspahadi (GKI Pondok Tjandra Indah Surabaya) \n\n\n\nRindu Usinda dilaksanakan secara Hybrid di Ruang Kebaktian Umum dan Youtube
URL:https://gkitamanaries.org/event/rindu-usinda-di-balik-kemenangan/
ATTACH;FMTTYPE=image/png:https://gkitamanaries.org/wp-content/uploads/2026/04/24-April-26.png
END:VEVENT
BEGIN:VEVENT
DTSTART;TZID=Asia/Jakarta:20260424T130000
DTEND;TZID=Asia/Jakarta:20260424T180000
DTSTAMP:20260420T230657
CREATED:20260420T040545Z
LAST-MODIFIED:20260420T040548Z
UID:7584-1777035600-1777053600@gkitamanaries.org
SUMMARY:Cek Rutin\, Tutup Celah Sakit ( Rindu & Klinik Pratama Karya Kasih )
DESCRIPTION:
URL:https://gkitamanaries.org/event/cek-rutin-tutup-celah-sakit-rindu-klinik-pratama-karya-kasih/
ATTACH;FMTTYPE=image/jpeg:https://gkitamanaries.org/wp-content/uploads/2026/04/WhatsApp-Image-2026-04-17-at-1.32.20-PM.jpeg
END:VEVENT
BEGIN:VEVENT
DTSTART;TZID=Asia/Jakarta:20260425T100000
DTEND;TZID=Asia/Jakarta:20260425T120000
DTSTAMP:20260420T230657
CREATED:20260420T033104Z
LAST-MODIFIED:20260420T033108Z
UID:7574-1777111200-1777118400@gkitamanaries.org
SUMMARY:Growing in Community ( Wilayah 2 )
DESCRIPTION:
URL:https://gkitamanaries.org/event/growing-in-community-wilayah-2/
ATTACH;FMTTYPE=image/png:https://gkitamanaries.org/wp-content/uploads/2026/04/GIC-APRIL-scaled.png
END:VEVENT
BEGIN:VEVENT
DTSTART;TZID=Asia/Jakarta:20260425T170000
DTEND;TZID=Asia/Jakarta:20260425T190000
DTSTAMP:20260420T230657
CREATED:20260420T033354Z
LAST-MODIFIED:20260420T033357Z
UID:7576-1777136400-1777143600@gkitamanaries.org
SUMMARY:Growing in Community ( Wilayah 1 )
DESCRIPTION:
URL:https://gkitamanaries.org/event/growing-in-community-wilayah-1/
ATTACH;FMTTYPE=image/png:https://gkitamanaries.org/wp-content/uploads/2026/04/GIC-APRIL-scaled.png
END:VEVENT
BEGIN:VEVENT
DTSTART;TZID=Asia/Jakarta:20260425T170000
DTEND;TZID=Asia/Jakarta:20260425T190000
DTSTAMP:20260420T230657
CREATED:20260420T035934Z
LAST-MODIFIED:20260420T035937Z
UID:7586-1777136400-1777143600@gkitamanaries.org
SUMMARY:ESMUD DEAR - IT'S OKAY TO NOT BE OKAY
DESCRIPTION:
URL:https://gkitamanaries.org/event/esmud-dear-its-okay-to-not-be-okay/
ATTACH;FMTTYPE=image/png:https://gkitamanaries.org/wp-content/uploads/2026/04/Esmud-25-April-scaled.png
END:VEVENT
BEGIN:VEVENT
DTSTART;TZID=Asia/Jakarta:20260425T190000
DTEND;TZID=Asia/Jakarta:20260425T210000
DTSTAMP:20260420T230657
CREATED:20260420T033446Z
LAST-MODIFIED:20260420T033449Z
UID:7578-1777143600-1777150800@gkitamanaries.org
SUMMARY:Growing in Community ( Wilayah 3 )
DESCRIPTION:
URL:https://gkitamanaries.org/event/growing-in-community-wilayah-3/
ATTACH;FMTTYPE=image/png:https://gkitamanaries.org/wp-content/uploads/2026/04/GIC-APRIL-scaled.png
END:VEVENT
END:VCALENDAR